BEGIN:VCALENDAR
VERSION:2.0
PRODID:icalendar-ruby
CALSCALE:GREGORIAN
METHOD:PUBLISH
BEGIN:VEVENT
DTSTAMP:20260419T192507Z
UID:51-126995@riveroflifechurch.org
DTSTART:20260514T190000Z
DTEND:20260514T203000Z
CLASS:PUBLIC
CREATED:20260413T132348
DESCRIPTION:
LAST-MODIFIED:20260413T132348
LOCATION:
SUMMARY:Good News Club 
URL;VALUE=URI:https://www.riveroflifechurch.org/events/good-news-club/2026-
 05-14
ATTACH;FILENAME=Good-New-Club.jpeg;FMTTYPE=image/jpeg:https://dq5pwpg1q8ru0
 .cloudfront.net/2026/04/13/17/23/47/5bda7527-ae93-49cd-9411-6cb472281446/G
 ood-New-Club.jpeg
END:VEVENT
END:VCALENDAR
